BEGIN:VCALENDAR
VERSION:2.0
PRODID:-//Randonnée 4 Jours en Chantonnay Vendée - ECPv6.14.2//NONSGML v1.0//EN
CALSCALE:GREGORIAN
METHOD:PUBLISH
X-ORIGINAL-URL:https://www.vendee-randonnee.com
X-WR-CALDESC:Évènements pour Randonnée 4 Jours en Chantonnay Vendée
REFRESH-INTERVAL;VALUE=DURATION:PT1H
X-Robots-Tag:noindex
X-PUBLISHED-TTL:PT1H
BEGIN:VTIMEZONE
TZID:Europe/Paris
BEGIN:DAYLIGHT
TZOFFSETFROM:+0100
TZOFFSETTO:+0200
TZNAME:CEST
DTSTART:20210328T010000
END:DAYLIGHT
BEGIN:STANDARD
TZOFFSETFROM:+0200
TZOFFSETTO:+0100
TZNAME:CET
DTSTART:20211031T010000
END:STANDARD
END:VTIMEZONE
BEGIN:VEVENT
DTSTART;TZID=Europe/Paris:20211204T081500
DTEND;TZID=Europe/Paris:20211204T163000
DTSTAMP:20260422T101302
CREATED:20210826T171351Z
LAST-MODIFIED:20211203T132833Z
UID:18209-1638605700-1638635400@www.vendee-randonnee.com
SUMMARY:Marche Gourmande Familiale du Téléthon
DESCRIPTION:Marche gourmande familiale organisée par R4JCV.\nDistance : 24 km – Tarif : 10€ repas compris\n8h15 – Départ du gymnase Clémenceau à Chantonnay\n9h30 – Dégustation d’huitres à Sigournais\n12h30 – Apéritif à Saint Prouant\n13h00 – Jambon\, mogettes et gateau à Saint Vincent Sterlanges\n16h30 – Retour sur Chantonnay\nPass sanitaire obligatoire\nRespect des gestes barrières
URL:https://www.vendee-randonnee.com/event/marche-du-telethon-2/
LOCATION:Gymnase Clemenceau\, 31 Avenue Georges Clemenceau\, CHANTONNAY\, Vendée\, 85110\, France
CATEGORIES:Calendrier rando club
ORGANIZER;CN="R4JCV":MAILTO:contact@web-creatif.net
END:VEVENT
BEGIN:VEVENT
DTSTART;TZID=Europe/Paris:20211212T081500
DTEND;TZID=Europe/Paris:20211212T123000
DTSTAMP:20260422T101302
CREATED:20210826T171520Z
LAST-MODIFIED:20210826T171520Z
UID:18211-1639296900-1639312200@www.vendee-randonnee.com
SUMMARY:Marche à Sigournais
DESCRIPTION:Marche organisée par Guy.\nDépart 8h15 du parking de la Charlère (en face l’entrée du cimetière).\nPass sanitaire fortement recommandé.\nRespect des gestes barrières
URL:https://www.vendee-randonnee.com/event/marche-a-sigournais-2/
LOCATION:Sigournais\, Place de l'église\, Sigournais\, Vendée\, 85110\, France
CATEGORIES:Calendrier rando club
ORGANIZER;CN="R4JCV":MAILTO:contact@web-creatif.net
END:VEVENT
BEGIN:VEVENT
DTSTART;TZID=Europe/Paris:20211219T081500
DTEND;TZID=Europe/Paris:20211219T123000
DTSTAMP:20260422T101302
CREATED:20171126T203844Z
LAST-MODIFIED:20211217T091302Z
UID:14970-1639901700-1639917000@www.vendee-randonnee.com
SUMMARY:Marche à Rochetrejoux
DESCRIPTION:Marche organisée par Françoise et Daniel P.\nDépart 8h15 du parking de la Charlère (en face l’entrée du cimetière).\nPass sanitaire fortement recommandé.\nRespect des gestes barrières.
URL:https://www.vendee-randonnee.com/event/marche-a-rochetrejoux/
LOCATION:Rochetrejoux\, Place de l'église\, Rochetrejoux\, Vendée\, 85510\, France
CATEGORIES:Calendrier rando club
ORGANIZER;CN="R4JCV":MAILTO:contact@web-creatif.net
END:VEVENT
END:VCALENDAR